BEGIN:VCALENDAR
VERSION:2.0
PRODID:-//7 CLANS BREWING - ECPv6.15.20//NONSGML v1.0//EN
CALSCALE:GREGORIAN
METHOD:PUBLISH
X-ORIGINAL-URL:https://7clansbrewing.com
X-WR-CALDESC:Events for 7 CLANS BREWING
REFRESH-INTERVAL;VALUE=DURATION:PT1H
X-Robots-Tag:noindex
X-PUBLISHED-TTL:PT1H
BEGIN:VTIMEZONE
TZID:America/New_York
BEGIN:DAYLIGHT
TZOFFSETFROM:-0500
TZOFFSETTO:-0400
TZNAME:EDT
DTSTART:20220313T070000
END:DAYLIGHT
BEGIN:STANDARD
TZOFFSETFROM:-0400
TZOFFSETTO:-0500
TZNAME:EST
DTSTART:20221106T060000
END:STANDARD
BEGIN:DAYLIGHT
TZOFFSETFROM:-0500
TZOFFSETTO:-0400
TZNAME:EDT
DTSTART:20230312T070000
END:DAYLIGHT
BEGIN:STANDARD
TZOFFSETFROM:-0400
TZOFFSETTO:-0500
TZNAME:EST
DTSTART:20231105T060000
END:STANDARD
BEGIN:DAYLIGHT
TZOFFSETFROM:-0500
TZOFFSETTO:-0400
TZNAME:EDT
DTSTART:20240310T070000
END:DAYLIGHT
BEGIN:STANDARD
TZOFFSETFROM:-0400
TZOFFSETTO:-0500
TZNAME:EST
DTSTART:20241103T060000
END:STANDARD
END:VTIMEZONE
BEGIN:VEVENT
DTSTART;TZID=America/New_York:20231129T160000
DTEND;TZID=America/New_York:20231129T200000
DTSTAMP:20260420T211723
CREATED:20231008T185942Z
LAST-MODIFIED:20231008T185942Z
UID:1327-1701273600-1701288000@7clansbrewing.com
SUMMARY:Mean Mandy's
DESCRIPTION:MEAN MANDY’S: Plant Food That’s Fire!! \nWe’re excited to welcome Mean Mandy’s\, a new food truck on the AVL scene\, back to 7 Clans Brewing! \nCome enjoy menu items including our achiote jackfruit tacos\, gochujang broccoli wings\, mini cheesecakes\, and more. Check out their menu and more on their website.
URL:https://7clansbrewing.com/event/mean-mandys-36/
LOCATION:7 Clans Brewing Taproom\, 66 Sweeten Creek Road\, Asheville\, NC\, 28803\, United States
ATTACH;FMTTYPE=image/png:https://7clansbrewing.com/wp-content/uploads/2023/07/Mean-Mandys-Logo_Horizontal_Tagline_Color.png
END:VEVENT
BEGIN:VEVENT
DTSTART;TZID=America/New_York:20231130T160000
DTEND;TZID=America/New_York:20231130T200000
DTSTAMP:20260420T211723
CREATED:20231008T190159Z
LAST-MODIFIED:20231008T190159Z
UID:1329-1701360000-1701374400@7clansbrewing.com
SUMMARY:Cactus Rainbow
DESCRIPTION:Cactus Rainbow is an eco-conscious food trailer serving gourmet grilled cheese and homemade soups with flavored iced teas.
URL:https://7clansbrewing.com/event/cactus-rainbow-5/
LOCATION:7 Clans Brewing Taproom\, 66 Sweeten Creek Road\, Asheville\, NC\, 28803\, United States
ATTACH;FMTTYPE=image/png:https://7clansbrewing.com/wp-content/uploads/2023/06/Cactus-Rainbow-Logo-Draft-4.png
END:VEVENT
BEGIN:VEVENT
DTSTART;TZID=America/New_York:20231201T160000
DTEND;TZID=America/New_York:20231201T210000
DTSTAMP:20260420T211723
CREATED:20231119T012533Z
LAST-MODIFIED:20231119T012533Z
UID:1395-1701446400-1701464400@7clansbrewing.com
SUMMARY:Mean Mandy's
DESCRIPTION:MEAN MANDY’S: Plant Food That’s Fire!! \nWe’re excited to welcome Mean Mandy’s\, a new food truck on the AVL scene\, back to 7 Clans Brewing! \nCome enjoy menu items including our achiote jackfruit tacos\, gochujang broccoli wings\, mini cheesecakes\, and more. Check out their menu and more on their website.
URL:https://7clansbrewing.com/event/mean-mandys-38/
LOCATION:7 Clans Brewing Taproom\, 66 Sweeten Creek Road\, Asheville\, NC\, 28803\, United States
ATTACH;FMTTYPE=image/png:https://7clansbrewing.com/wp-content/uploads/2023/07/Mean-Mandys-Logo_Horizontal_Tagline_Color.png
END:VEVENT
END:VCALENDAR