BEGIN:VCALENDAR
VERSION:2.0
PRODID:-//7 CLANS BREWING - ECPv6.15.20//NONSGML v1.0//EN
CALSCALE:GREGORIAN
METHOD:PUBLISH
X-ORIGINAL-URL:https://7clansbrewing.com
X-WR-CALDESC:Events for 7 CLANS BREWING
REFRESH-INTERVAL;VALUE=DURATION:PT1H
X-Robots-Tag:noindex
X-PUBLISHED-TTL:PT1H
BEGIN:VTIMEZONE
TZID:America/New_York
BEGIN:DAYLIGHT
TZOFFSETFROM:-0500
TZOFFSETTO:-0400
TZNAME:EDT
DTSTART:20220313T070000
END:DAYLIGHT
BEGIN:STANDARD
TZOFFSETFROM:-0400
TZOFFSETTO:-0500
TZNAME:EST
DTSTART:20221106T060000
END:STANDARD
BEGIN:DAYLIGHT
TZOFFSETFROM:-0500
TZOFFSETTO:-0400
TZNAME:EDT
DTSTART:20230312T070000
END:DAYLIGHT
BEGIN:STANDARD
TZOFFSETFROM:-0400
TZOFFSETTO:-0500
TZNAME:EST
DTSTART:20231105T060000
END:STANDARD
BEGIN:DAYLIGHT
TZOFFSETFROM:-0500
TZOFFSETTO:-0400
TZNAME:EDT
DTSTART:20240310T070000
END:DAYLIGHT
BEGIN:STANDARD
TZOFFSETFROM:-0400
TZOFFSETTO:-0500
TZNAME:EST
DTSTART:20241103T060000
END:STANDARD
END:VTIMEZONE
BEGIN:VEVENT
DTSTART;TZID=America/New_York:20230216T160000
DTEND;TZID=America/New_York:20230216T200000
DTSTAMP:20260421T072130
CREATED:20230104T015456Z
LAST-MODIFIED:20230215T193008Z
UID:871-1676563200-1676577600@7clansbrewing.com
SUMMARY:CANCELLED - Wicked Fresh Maine Lobster
DESCRIPTION:**Due to a mechanical issue\, Wicked Fresh Maine Lobster has cancelled on Feb 16.** \nA brand new food truck on the WNC scene\, serving up fresh seafood\, including lobster rolls\, clam chowder\, fish tacos\, trout dip\, seared scallops and more! \nCheck out their menu here. \nWicked fresh on Facebook. \nWicked Fresh on the web. \n 
URL:https://7clansbrewing.com/event/wicked-fresh-maine-lobster-6/
LOCATION:7 Clans Brewing Taproom\, 66 Sweeten Creek Road\, Asheville\, NC\, 28803\, United States
ATTACH;FMTTYPE=image/jpeg:https://7clansbrewing.com/wp-content/uploads/2023/01/Wicked-Fresh_Final_W_Tail.jpg
END:VEVENT
END:VCALENDAR