BEGIN:VCALENDAR
VERSION:2.0
PRODID:-//7 CLANS BREWING - ECPv6.15.20//NONSGML v1.0//EN
CALSCALE:GREGORIAN
METHOD:PUBLISH
X-WR-CALNAME:7 CLANS BREWING
X-ORIGINAL-URL:https://7clansbrewing.com
X-WR-CALDESC:Events for 7 CLANS BREWING
REFRESH-INTERVAL;VALUE=DURATION:PT1H
X-Robots-Tag:noindex
X-PUBLISHED-TTL:PT1H
BEGIN:VTIMEZONE
TZID:America/New_York
BEGIN:DAYLIGHT
TZOFFSETFROM:-0500
TZOFFSETTO:-0400
TZNAME:EDT
DTSTART:20220313T070000
END:DAYLIGHT
BEGIN:STANDARD
TZOFFSETFROM:-0400
TZOFFSETTO:-0500
TZNAME:EST
DTSTART:20221106T060000
END:STANDARD
BEGIN:DAYLIGHT
TZOFFSETFROM:-0500
TZOFFSETTO:-0400
TZNAME:EDT
DTSTART:20230312T070000
END:DAYLIGHT
BEGIN:STANDARD
TZOFFSETFROM:-0400
TZOFFSETTO:-0500
TZNAME:EST
DTSTART:20231105T060000
END:STANDARD
BEGIN:DAYLIGHT
TZOFFSETFROM:-0500
TZOFFSETTO:-0400
TZNAME:EDT
DTSTART:20240310T070000
END:DAYLIGHT
BEGIN:STANDARD
TZOFFSETFROM:-0400
TZOFFSETTO:-0500
TZNAME:EST
DTSTART:20241103T060000
END:STANDARD
END:VTIMEZONE
BEGIN:VEVENT
DTSTART;TZID=America/New_York:20230212T120000
DTEND;TZID=America/New_York:20230212T160000
DTSTAMP:20260419T174904
CREATED:20230104T020551Z
LAST-MODIFIED:20230104T020551Z
UID:881-1676203200-1676217600@7clansbrewing.com
SUMMARY:SUNDAY BRUNCH with Trucking Delicious
DESCRIPTION:Brunch\, Beer-mosas\, Cheladas\, and Cold Brew– Come ‘n’ get it!!! \nJoin us for Sunday Brunch at 7 Clans Brewing in Asheville\, featuring specialty drinks and diner-inspired culinary delights prepared by our friends at Trucking Delicious food truck.\n_______________________________\nBRUNCH SPECIALTY DRINK MENU:\n7 Clans Beer-Mosas:\nHop Rooted IPA or Sali Persimmon Sour\nOrange Juice\nGarnished with Orange Slice \n7 Clans Blonde-Chelada:\nBlonde Ale\nSpice rimmed pint glass\nBloody Mary mix\nGarnished with olive\, pickle\, celery & lime \n7 Clans Milk Stout + Cold Brew\n*optional whipped cream topping* \nClassic Champagne Mimosa\n_______________________________ \nTrucking Delicious on Facebook. \n7 Clans Brewing taproom is family and pet friendly\, offering indoor and outdoor space to enjoy our 7 signature beers. We’re open daily\, and look forward to seeing you there!
URL:https://7clansbrewing.com/event/sunday-brunch-with-trucking-delicious-8/
LOCATION:7 Clans Brewing Taproom\, 66 Sweeten Creek Road\, Asheville\, NC\, 28803\, United States
ATTACH;FMTTYPE=image/jpeg:https://7clansbrewing.com/wp-content/uploads/2022/09/TruckingDelicious1.jpg
END:VEVENT
END:VCALENDAR