BEGIN:VCALENDAR
VERSION:2.0
PRODID:-//7 CLANS BREWING - ECPv6.15.20//NONSGML v1.0//EN
CALSCALE:GREGORIAN
METHOD:PUBLISH
X-ORIGINAL-URL:https://7clansbrewing.com
X-WR-CALDESC:Events for 7 CLANS BREWING
REFRESH-INTERVAL;VALUE=DURATION:PT1H
X-Robots-Tag:noindex
X-PUBLISHED-TTL:PT1H
BEGIN:VTIMEZONE
TZID:America/New_York
BEGIN:DAYLIGHT
TZOFFSETFROM:-0500
TZOFFSETTO:-0400
TZNAME:EDT
DTSTART:20220313T070000
END:DAYLIGHT
BEGIN:STANDARD
TZOFFSETFROM:-0400
TZOFFSETTO:-0500
TZNAME:EST
DTSTART:20221106T060000
END:STANDARD
BEGIN:DAYLIGHT
TZOFFSETFROM:-0500
TZOFFSETTO:-0400
TZNAME:EDT
DTSTART:20230312T070000
END:DAYLIGHT
BEGIN:STANDARD
TZOFFSETFROM:-0400
TZOFFSETTO:-0500
TZNAME:EST
DTSTART:20231105T060000
END:STANDARD
BEGIN:DAYLIGHT
TZOFFSETFROM:-0500
TZOFFSETTO:-0400
TZNAME:EDT
DTSTART:20240310T070000
END:DAYLIGHT
BEGIN:STANDARD
TZOFFSETFROM:-0400
TZOFFSETTO:-0500
TZNAME:EST
DTSTART:20241103T060000
END:STANDARD
END:VTIMEZONE
BEGIN:VEVENT
DTSTART;TZID=America/New_York:20230210T160000
DTEND;TZID=America/New_York:20230210T200000
DTSTAMP:20260419T140620
CREATED:20230104T021215Z
LAST-MODIFIED:20230104T021215Z
UID:887-1676044800-1676059200@7clansbrewing.com
SUMMARY:Nom Sense
DESCRIPTION:South Asian Street Food (Formerly NaanSense) \nA message from NomSense: \nELIJAH’S TAB \nYou don’t have to have money to eat. You’re a person\, you deserve to eat. We don’t refuse food to anyone\, regardless of ability to pay. If you’d like to help us keep folks fed\, feel free to add any dollar amount to your order by letting us know to “Put it on Elijah’s Tab”\, in honor of Elijah McClain. If you are unable to pay\, just let us know that you’re or Elijah’s Tab\, and order what you’d like. We promise you’ll be cheerfully served without judgement\, because no one deserves hunger. \nABOUT US \nWe’re a proudly Woman-Owned\, Black-Owned\, and Felon-Owned business. We cook our lives and our cultures into the food. We speak our minds. We got both kinds of convictions. We also cater\, so let us do your Bat Mitzvah or wedding or something. \nMore From Nom Sense here. \n7 Clans Brewing taproom is family and pet friendly\, offering indoor and outdoor space to enjoy our 7 signature beers. We’re open daily\, and look forward to seeing you there!
URL:https://7clansbrewing.com/event/nom-sense-8/
LOCATION:7 Clans Brewing Taproom\, 66 Sweeten Creek Road\, Asheville\, NC\, 28803\, United States
ATTACH;FMTTYPE=image/jpeg:https://7clansbrewing.com/wp-content/uploads/2022/12/66196459-1CC1-4E18-BA73-D29DF04584C4.jpeg
END:VEVENT
END:VCALENDAR