BEGIN:VCALENDAR
VERSION:2.0
PRODID:-//7 CLANS BREWING - ECPv6.15.20//NONSGML v1.0//EN
CALSCALE:GREGORIAN
METHOD:PUBLISH
X-WR-CALNAME:7 CLANS BREWING
X-ORIGINAL-URL:https://7clansbrewing.com
X-WR-CALDESC:Events for 7 CLANS BREWING
REFRESH-INTERVAL;VALUE=DURATION:PT1H
X-Robots-Tag:noindex
X-PUBLISHED-TTL:PT1H
BEGIN:VTIMEZONE
TZID:America/New_York
BEGIN:DAYLIGHT
TZOFFSETFROM:-0500
TZOFFSETTO:-0400
TZNAME:EDT
DTSTART:20210314T070000
END:DAYLIGHT
BEGIN:STANDARD
TZOFFSETFROM:-0400
TZOFFSETTO:-0500
TZNAME:EST
DTSTART:20211107T060000
END:STANDARD
BEGIN:DAYLIGHT
TZOFFSETFROM:-0500
TZOFFSETTO:-0400
TZNAME:EDT
DTSTART:20220313T070000
END:DAYLIGHT
BEGIN:STANDARD
TZOFFSETFROM:-0400
TZOFFSETTO:-0500
TZNAME:EST
DTSTART:20221106T060000
END:STANDARD
BEGIN:DAYLIGHT
TZOFFSETFROM:-0500
TZOFFSETTO:-0400
TZNAME:EDT
DTSTART:20230312T070000
END:DAYLIGHT
BEGIN:STANDARD
TZOFFSETFROM:-0400
TZOFFSETTO:-0500
TZNAME:EST
DTSTART:20231105T060000
END:STANDARD
END:VTIMEZONE
BEGIN:VEVENT
DTSTART;TZID=America/New_York:20221016T120000
DTEND;TZID=America/New_York:20221016T200000
DTSTAMP:20260421T183011
CREATED:20220922T144752Z
LAST-MODIFIED:20220922T144752Z
UID:683-1665921600-1665950400@7clansbrewing.com
SUMMARY:TRUCKING DELICIOUS Food Truck - Sunday\, 10/16/22
DESCRIPTION:TRUCKING DELICIOUS Food Truck – Sunday\, 10/16/22\nServing from 12-8 pm @ 7 Clans Brewing Taproom \nTrucking Delicious is an old school diner food truck that serves breakfast/lunch that we just now opened at the beginning of 2022. I worked at Tastee Diner for around 10-11 years and when the diner sold this past year myself and my partner decided to open our own thing\, which came Trucking Delicious. \nFB: https://www.facebook.com/TruckingDelicious828\n \n7 Clans Brewing taproom is family and pet friendly\, offering indoor and outdoor space to enjoy our 7 signature beers. We’re open daily\, and look forward to seeing you there!
URL:https://7clansbrewing.com/event/trucking-delicious-food-truck-sunday-10-16-22/
LOCATION:7 Clans Brewing Taproom\, 66 Sweeten Creek Road\, Asheville\, NC\, 28803\, United States
END:VEVENT
END:VCALENDAR