BEGIN:VCALENDAR
VERSION:2.0
PRODID:-//7 CLANS BREWING - ECPv6.15.20//NONSGML v1.0//EN
CALSCALE:GREGORIAN
METHOD:PUBLISH
X-WR-CALNAME:7 CLANS BREWING
X-ORIGINAL-URL:https://7clansbrewing.com
X-WR-CALDESC:Events for 7 CLANS BREWING
REFRESH-INTERVAL;VALUE=DURATION:PT1H
X-Robots-Tag:noindex
X-PUBLISHED-TTL:PT1H
BEGIN:VTIMEZONE
TZID:America/New_York
BEGIN:DAYLIGHT
TZOFFSETFROM:-0500
TZOFFSETTO:-0400
TZNAME:EDT
DTSTART:20210314T070000
END:DAYLIGHT
BEGIN:STANDARD
TZOFFSETFROM:-0400
TZOFFSETTO:-0500
TZNAME:EST
DTSTART:20211107T060000
END:STANDARD
BEGIN:DAYLIGHT
TZOFFSETFROM:-0500
TZOFFSETTO:-0400
TZNAME:EDT
DTSTART:20220313T070000
END:DAYLIGHT
BEGIN:STANDARD
TZOFFSETFROM:-0400
TZOFFSETTO:-0500
TZNAME:EST
DTSTART:20221106T060000
END:STANDARD
BEGIN:DAYLIGHT
TZOFFSETFROM:-0500
TZOFFSETTO:-0400
TZNAME:EDT
DTSTART:20230312T070000
END:DAYLIGHT
BEGIN:STANDARD
TZOFFSETFROM:-0400
TZOFFSETTO:-0500
TZNAME:EST
DTSTART:20231105T060000
END:STANDARD
END:VTIMEZONE
BEGIN:VEVENT
DTSTART;TZID=America/New_York:20221014T150000
DTEND;TZID=America/New_York:20221014T200000
DTSTAMP:20260421T183022
CREATED:20220908T181901Z
LAST-MODIFIED:20220908T181901Z
UID:646-1665759600-1665777600@7clansbrewing.com
SUMMARY:BEAR'S SMOKEHOUSE BBQ Food Truck - Friday\, 10/14/22
DESCRIPTION:BEAR’S SMOKEHOUSE BBQ Food Truck – Friday\, 10/14/22\nServing from 3-8 pm @ 7 Clans Brewing Taproom \nLocated throughout Connecticut and North Carolina\, Bear’s Smokehouse offers a wide selection of wood smoked\, Kansas City style barbecue as well as sauces and sides. Delicious brisket\, burnt ends\, baby back ribs\, chicken\, pork & desserts served daily. \nFB: https://www.facebook.com/bearssmokehouseasheville\nWebsite: http://bearsbbq.com/asheville \n7 Clans Brewing taproom is family and pet friendly\, offering indoor and outdoor space to enjoy our 7 signature beers. We’re open daily\, and look forward to seeing you there!
URL:https://7clansbrewing.com/event/bears-smokehouse-bbq-food-truck-friday-10-14-22/
LOCATION:7 Clans Brewing Taproom\, 66 Sweeten Creek Road\, Asheville\, NC\, 28803\, United States
END:VEVENT
END:VCALENDAR