BEGIN:VCALENDAR
VERSION:2.0
PRODID:-//7 CLANS BREWING - ECPv6.15.20//NONSGML v1.0//EN
CALSCALE:GREGORIAN
METHOD:PUBLISH
X-ORIGINAL-URL:https://7clansbrewing.com
X-WR-CALDESC:Events for 7 CLANS BREWING
REFRESH-INTERVAL;VALUE=DURATION:PT1H
X-Robots-Tag:noindex
X-PUBLISHED-TTL:PT1H
BEGIN:VTIMEZONE
TZID:America/New_York
BEGIN:DAYLIGHT
TZOFFSETFROM:-0500
TZOFFSETTO:-0400
TZNAME:EDT
DTSTART:20210314T070000
END:DAYLIGHT
BEGIN:STANDARD
TZOFFSETFROM:-0400
TZOFFSETTO:-0500
TZNAME:EST
DTSTART:20211107T060000
END:STANDARD
BEGIN:DAYLIGHT
TZOFFSETFROM:-0500
TZOFFSETTO:-0400
TZNAME:EDT
DTSTART:20220313T070000
END:DAYLIGHT
BEGIN:STANDARD
TZOFFSETFROM:-0400
TZOFFSETTO:-0500
TZNAME:EST
DTSTART:20221106T060000
END:STANDARD
BEGIN:DAYLIGHT
TZOFFSETFROM:-0500
TZOFFSETTO:-0400
TZNAME:EDT
DTSTART:20230312T070000
END:DAYLIGHT
BEGIN:STANDARD
TZOFFSETFROM:-0400
TZOFFSETTO:-0500
TZNAME:EST
DTSTART:20231105T060000
END:STANDARD
END:VTIMEZONE
BEGIN:VEVENT
DTSTART;TZID=America/New_York:20221006T160000
DTEND;TZID=America/New_York:20221006T200000
DTSTAMP:20260421T183223
CREATED:20221004T194701Z
LAST-MODIFIED:20221004T194701Z
UID:701-1665072000-1665086400@7clansbrewing.com
SUMMARY:DIRTY GERTIE’s Taco Stand - Thursday\, 10/6/22
DESCRIPTION:DIRTY GERTIE’s Taco Stand – Thursday\, 10/6/22\nServing from 4-8 pm @ 7 Clans Brewing Taproom \nDirty Gertie’s offers traditional tacos made with the simplest of ingredients! Walker Aderhold is the taco alchemist behind Dirty Gertie’s. He has made tacos for in town at several locations including the Grey Eagle and Greenlife. \nFB: https://www.facebook.com/walkeraderhold828taco\n \n7 Clans Brewing taproom is family and pet friendly\, offering indoor and outdoor space to enjoy our 7 signature beers. We’re open daily\, and look forward to seeing you there!
URL:https://7clansbrewing.com/event/dirty-gerties-taco-stand-thursday-10-6-22/
LOCATION:7 Clans Brewing Taproom\, 66 Sweeten Creek Road\, Asheville\, NC\, 28803\, United States
END:VEVENT
END:VCALENDAR